BEGIN:VCALENDAR
VERSION:2.0
PRODID:-//Harrisburg Young Professionals - ECPv6.15.17.1//NONSGML v1.0//EN
CALSCALE:GREGORIAN
METHOD:PUBLISH
X-WR-CALNAME:Harrisburg Young Professionals
X-ORIGINAL-URL:https://hyp.org
X-WR-CALDESC:Events for Harrisburg Young Professionals
REFRESH-INTERVAL;VALUE=DURATION:PT1H
X-Robots-Tag:noindex
X-PUBLISHED-TTL:PT1H
BEGIN:VTIMEZONE
TZID:America/New_York
BEGIN:DAYLIGHT
TZOFFSETFROM:-0500
TZOFFSETTO:-0400
TZNAME:EDT
DTSTART:20250309T070000
END:DAYLIGHT
BEGIN:STANDARD
TZOFFSETFROM:-0400
TZOFFSETTO:-0500
TZNAME:EST
DTSTART:20251102T060000
END:STANDARD
BEGIN:DAYLIGHT
TZOFFSETFROM:-0500
TZOFFSETTO:-0400
TZNAME:EDT
DTSTART:20260308T070000
END:DAYLIGHT
BEGIN:STANDARD
TZOFFSETFROM:-0400
TZOFFSETTO:-0500
TZNAME:EST
DTSTART:20261101T060000
END:STANDARD
BEGIN:DAYLIGHT
TZOFFSETFROM:-0500
TZOFFSETTO:-0400
TZNAME:EDT
DTSTART:20270314T070000
END:DAYLIGHT
BEGIN:STANDARD
TZOFFSETFROM:-0400
TZOFFSETTO:-0500
TZNAME:EST
DTSTART:20271107T060000
END:STANDARD
END:VTIMEZONE
BEGIN:VEVENT
DTSTART;TZID=America/New_York:20260614T140000
DTEND;TZID=America/New_York:20260614T160000
DTSTAMP:20260419T175940
CREATED:20260409T154516Z
LAST-MODIFIED:20260409T154516Z
UID:10001690-1781445600-1781452800@hyp.org
SUMMARY:HYP Book Club
DESCRIPTION:Join us for a discussion of Breath: The New Science of a Lost Art by James Nestor. No matter what you eat\, how much you exercise\, how skinny or young or wise you are\, none of it matters if you’re not breathing properly. \n\nThere is nothing more essential to our health and well-being than breathing: take air in\, let it out\, repeat twenty-five thousand times a day. Yet\, as a species\, humans have lost the ability to breathe correctly\, with grave consequences. \n\nJournalist James Nestor travels the world to figure out what went wrong and how to fix it. The answers aren’t found in pulmonology labs\, as we might expect\, but in the muddy digs of ancient burial sites\, secret Soviet facilities\, New Jersey choir schools\, and the smoggy streets of Sao Paulo. Nestor tracks down men and women exploring the hidden science behind ancient breathing practices like Pranayama\, Sudarshan Kriya\, and Tummo and teams up with pulmonary tinkerers to scientifically test long-held beliefs about how we breathe. \n\nModern research is showing us that making even slight adjustments to the way we inhale and exhale can jump-start athletic performance; rejuvenate internal organs; halt snoring\, asthma\, and autoimmune disease; and even straighten scoliotic spines. None of this should be possible\, and yet it is.Drawing on thousands of years of medical texts and recent cutting-edge studies in pulmonology\, psychology\, biochemistry\, and human physiology\, Breath turns the conventional wisdom of what we thought we knew about our most basic biological function on its head. You will never breathe the same again. \n\nThis is a free event but does require registration. Click here to register! \n\nIf you have any questions\, please reach out to Jenifer Wright at wright.jenn27@gmail.com
URL:https://hyp.org/event/hyp-book-club-4/
LOCATION:Pursuit Coworking\, 922 North 3rd st\, Harrisburg\, PA\, 17102\, United States
CATEGORIES:Arts
END:VEVENT
END:VCALENDAR