BEGIN:VCALENDAR
VERSION:2.0
PRODID:-//Harrisburg Young Professionals - ECPv6.15.17.1//NONSGML v1.0//EN
CALSCALE:GREGORIAN
METHOD:PUBLISH
X-ORIGINAL-URL:https://hyp.org
X-WR-CALDESC:Events for Harrisburg Young Professionals
REFRESH-INTERVAL;VALUE=DURATION:PT1H
X-Robots-Tag:noindex
X-PUBLISHED-TTL:PT1H
BEGIN:VTIMEZONE
TZID:America/New_York
BEGIN:DAYLIGHT
TZOFFSETFROM:-0500
TZOFFSETTO:-0400
TZNAME:EDT
DTSTART:20200308T070000
END:DAYLIGHT
BEGIN:STANDARD
TZOFFSETFROM:-0400
TZOFFSETTO:-0500
TZNAME:EST
DTSTART:20201101T060000
END:STANDARD
BEGIN:DAYLIGHT
TZOFFSETFROM:-0500
TZOFFSETTO:-0400
TZNAME:EDT
DTSTART:20210314T070000
END:DAYLIGHT
BEGIN:STANDARD
TZOFFSETFROM:-0400
TZOFFSETTO:-0500
TZNAME:EST
DTSTART:20211107T060000
END:STANDARD
BEGIN:DAYLIGHT
TZOFFSETFROM:-0500
TZOFFSETTO:-0400
TZNAME:EDT
DTSTART:20220313T070000
END:DAYLIGHT
BEGIN:STANDARD
TZOFFSETFROM:-0400
TZOFFSETTO:-0500
TZNAME:EST
DTSTART:20221106T060000
END:STANDARD
END:VTIMEZONE
BEGIN:VEVENT
DTSTART;TZID=America/New_York:20210422T180000
DTEND;TZID=America/New_York:20210422T190000
DTSTAMP:20260419T184813
CREATED:20210324T190941Z
LAST-MODIFIED:20210324T190941Z
UID:10000677-1619114400-1619118000@hyp.org
SUMMARY:10 Ways to Upgrade Your Presence on LinkedIn
DESCRIPTION:Join HYP and Hunter Nicholson\, Social Media Analyst at WebFX\, on April 22\, 2021\, at 6 p.m. for a free seminar featuring tips for optimizing your personal LinkedIn profile. We want our members to appear available and appealing for potential job opportunities\, and to enhance their current approach to digital professional development. This event is open to the public! \nRegister here: https://zoom.us/…/tJclduihrzsiG9QWM-3dHTPf0L3p11E6QBFk.
URL:https://hyp.org/event/10-ways-to-upgrade-your-presence-on-linkedin/
CATEGORIES:Economic Development
END:VEVENT
END:VCALENDAR