BEGIN:VCALENDAR
VERSION:2.0
PRODID:-//Harrisburg Young Professionals - ECPv6.15.17.1//NONSGML v1.0//EN
CALSCALE:GREGORIAN
METHOD:PUBLISH
X-WR-CALNAME:Harrisburg Young Professionals
X-ORIGINAL-URL:https://hyp.org
X-WR-CALDESC:Events for Harrisburg Young Professionals
REFRESH-INTERVAL;VALUE=DURATION:PT1H
X-Robots-Tag:noindex
X-PUBLISHED-TTL:PT1H
BEGIN:VTIMEZONE
TZID:America/New_York
BEGIN:DAYLIGHT
TZOFFSETFROM:-0500
TZOFFSETTO:-0400
TZNAME:EDT
DTSTART:20170312T070000
END:DAYLIGHT
BEGIN:STANDARD
TZOFFSETFROM:-0400
TZOFFSETTO:-0500
TZNAME:EST
DTSTART:20171105T060000
END:STANDARD
BEGIN:DAYLIGHT
TZOFFSETFROM:-0500
TZOFFSETTO:-0400
TZNAME:EDT
DTSTART:20180311T070000
END:DAYLIGHT
BEGIN:STANDARD
TZOFFSETFROM:-0400
TZOFFSETTO:-0500
TZNAME:EST
DTSTART:20181104T060000
END:STANDARD
BEGIN:DAYLIGHT
TZOFFSETFROM:-0500
TZOFFSETTO:-0400
TZNAME:EDT
DTSTART:20190310T070000
END:DAYLIGHT
BEGIN:STANDARD
TZOFFSETFROM:-0400
TZOFFSETTO:-0500
TZNAME:EST
DTSTART:20191103T060000
END:STANDARD
BEGIN:DAYLIGHT
TZOFFSETFROM:-0500
TZOFFSETTO:-0400
TZNAME:EDT
DTSTART:20200308T070000
END:DAYLIGHT
BEGIN:STANDARD
TZOFFSETFROM:-0400
TZOFFSETTO:-0500
TZNAME:EST
DTSTART:20201101T060000
END:STANDARD
BEGIN:DAYLIGHT
TZOFFSETFROM:-0500
TZOFFSETTO:-0400
TZNAME:EDT
DTSTART:20210314T070000
END:DAYLIGHT
BEGIN:STANDARD
TZOFFSETFROM:-0400
TZOFFSETTO:-0500
TZNAME:EST
DTSTART:20211107T060000
END:STANDARD
BEGIN:DAYLIGHT
TZOFFSETFROM:-0500
TZOFFSETTO:-0400
TZNAME:EDT
DTSTART:20220313T070000
END:DAYLIGHT
BEGIN:STANDARD
TZOFFSETFROM:-0400
TZOFFSETTO:-0500
TZNAME:EST
DTSTART:20221106T060000
END:STANDARD
END:VTIMEZONE
BEGIN:VEVENT
DTSTART;TZID=America/New_York:20211118T173000
DTEND;TZID=America/New_York:20211118T193000
DTSTAMP:20260424T225558
CREATED:20211013T143921Z
LAST-MODIFIED:20211013T143921Z
UID:10000735-1637256600-1637263800@hyp.org
SUMMARY:Coffee Tasting Series
DESCRIPTION:Please join HYP for our second Coffee Tasting event of the fall at Good Brotha’s Book Cafe on November 18th from 5:30pm – 6:30pm. \nGood Brotha’s Book Cafe\, an extension of the Good Brotha’s Book Club\, and is dedicated to exposing the Harrisburg Community to quality coffee and Black authors that you may not have heard of. \nWhether you have a deep affection for coffee or you are taking your first sip\, we would be excited for you to attend! \nRSVP is required. Visit this link to RSVP: https://www.cogran.io/index.html?hyp
URL:https://hyp.org/event/coffee-tasting-series-2/
CATEGORIES:Arts
END:VEVENT
BEGIN:VEVENT
DTSTART;TZID=America/New_York:20210217T180000
DTEND;TZID=America/New_York:20210217T190000
DTSTAMP:20260424T225558
CREATED:20210104T183934Z
LAST-MODIFIED:20210104T183934Z
UID:10000649-1613584800-1613588400@hyp.org
SUMMARY:Arts & International / Membership Committee Meeting
DESCRIPTION:*Committee meetings will be held virtually until further notice* \nFor information on how to join the virtual committee meetings\, email arts@hyp.org or membership@hyp.org.
URL:https://hyp.org/event/arts-international-membership-committee-meeting/2021-02-17/
CATEGORIES:Arts,Membership
END:VEVENT
BEGIN:VEVENT
DTSTART;TZID=America/New_York:20190320T180000
DTEND;TZID=America/New_York:20190320T190000
DTSTAMP:20260424T225558
CREATED:20190123T161104Z
LAST-MODIFIED:20190123T161104Z
UID:10000493-1553104800-1553108400@hyp.org
SUMMARY:Arts & Social Meeting
DESCRIPTION:Monthly meetings to discuss progress\, upcoming events\, new ideas\, and areas of concern\nWill send out follow-up minutes to all attendees and absent members of the committee
URL:https://hyp.org/event/arts-social-meeting-2/
CATEGORIES:Committee Meetings
END:VEVENT
BEGIN:VEVENT
DTSTART;TZID=America/New_York:20190220T180000
DTEND;TZID=America/New_York:20190220T190000
DTSTAMP:20260424T225558
CREATED:20190123T160958Z
LAST-MODIFIED:20190123T160958Z
UID:10000492-1550685600-1550689200@hyp.org
SUMMARY:Arts & Social Meeting
DESCRIPTION:Monthly meetings to discuss progress\, upcoming events\, new ideas\, and areas of concern\nWill send out follow-up minutes to all attendees and absent members of the committee
URL:https://hyp.org/event/arts-social-meeting/
CATEGORIES:Committee Meetings
END:VEVENT
BEGIN:VEVENT
DTSTART;TZID=America/New_York:20180205T060000
DTEND;TZID=America/New_York:20180205T190000
DTSTAMP:20260424T225558
CREATED:20171228T194050Z
LAST-MODIFIED:20171228T194050Z
UID:10000359-1517810400-1517857200@hyp.org
SUMMARY:Arts & International Committee Meeting
DESCRIPTION:Join HYP’s Arts committee for their monthly meeting! The purpose of the Arts & International Committee is to develop and coordinate programming and events promoting domestic and international arts and culture. Volunteer committee members help plan and coordinate arts related programs and events for HYP\, including events such as Tasting 101 workshops\, the summer Italian Lake Concert Series\, exclusive drink and food pairing dinners\, and much more. The Arts committee is a wonderful way to become more involved in the organization while learning about the arts in Harrisburg. \nContact arts@hyp.org to learn more\, receive committee email updates and to find this month’s meeting location. \n2018 Committee Chairs:  Victoria McCallum & Swara Shah
URL:https://hyp.org/event/arts-international-committee-meeting-2/2018-02-05/
CATEGORIES:Committee Meetings
END:VEVENT
BEGIN:VEVENT
DTSTART;TZID=America/New_York:20180108T180000
DTEND;TZID=America/New_York:20180108T190000
DTSTAMP:20260424T225558
CREATED:20171228T193645Z
LAST-MODIFIED:20171228T193645Z
UID:10000358-1515434400-1515438000@hyp.org
SUMMARY:Arts & International Committee Meeting
DESCRIPTION:Join HYP’s Arts committee for their monthly meeting! The purpose of the Arts & International Committee is to develop and coordinate programming and events promoting domestic and international arts and culture. Volunteer committee members help plan and coordinate arts related programs and events for HYP\, including events such as Tasting 101 workshops\, the summer Italian Lake Concert Series\, exclusive drink and food pairing dinners\, and much more. The Arts committee is a wonderful way to become more involved in the organization while learning about the arts in Harrisburg. \nContact arts@hyp.org to learn more\, receive committee email updates and to find this month’s meeting location. \n2018 Committee Chairs:  Victoria McCallum & Swara Shah
URL:https://hyp.org/event/arts-international-committee-meeting/
CATEGORIES:Committee Meetings
END:VEVENT
END:VCALENDAR