BEGIN:VCALENDAR
VERSION:2.0
PRODID:-//Harrisburg Young Professionals - ECPv6.15.17.1//NONSGML v1.0//EN
CALSCALE:GREGORIAN
METHOD:PUBLISH
X-ORIGINAL-URL:https://hyp.org
X-WR-CALDESC:Events for Harrisburg Young Professionals
REFRESH-INTERVAL;VALUE=DURATION:PT1H
X-Robots-Tag:noindex
X-PUBLISHED-TTL:PT1H
BEGIN:VTIMEZONE
TZID:America/New_York
BEGIN:DAYLIGHT
TZOFFSETFROM:-0500
TZOFFSETTO:-0400
TZNAME:EDT
DTSTART:20200308T070000
END:DAYLIGHT
BEGIN:STANDARD
TZOFFSETFROM:-0400
TZOFFSETTO:-0500
TZNAME:EST
DTSTART:20201101T060000
END:STANDARD
BEGIN:DAYLIGHT
TZOFFSETFROM:-0500
TZOFFSETTO:-0400
TZNAME:EDT
DTSTART:20210314T070000
END:DAYLIGHT
BEGIN:STANDARD
TZOFFSETFROM:-0400
TZOFFSETTO:-0500
TZNAME:EST
DTSTART:20211107T060000
END:STANDARD
BEGIN:DAYLIGHT
TZOFFSETFROM:-0500
TZOFFSETTO:-0400
TZNAME:EDT
DTSTART:20220313T070000
END:DAYLIGHT
BEGIN:STANDARD
TZOFFSETFROM:-0400
TZOFFSETTO:-0500
TZNAME:EST
DTSTART:20221106T060000
END:STANDARD
END:VTIMEZONE
BEGIN:VEVENT
DTSTART;TZID=America/New_York:20210626T090000
DTEND;TZID=America/New_York:20210626T150000
DTSTAMP:20260420T130335
CREATED:20210610T133610Z
LAST-MODIFIED:20210610T133610Z
UID:10000707-1624698000-1624719600@hyp.org
SUMMARY:Love the Hill Day at Wildheart Ministries
DESCRIPTION:Come join fellow HYP volunteers for Wildheart Ministries’ Love the Hill summer clean-up series! The cleanup on Saturday\, June\, 26th will begin at 9am and will run until 3pm. There will be a barbeque lunch provided for all volunteers. Gloves and water bottles will be provided\, but feel free to bring your own! Please email the City Beautification Committee at beautification@hyp.org to let us know if you’ll be joining the cleanup. Come out and help Love the Hill!
URL:https://hyp.org/event/love-the-hill-day-at-wildheart-ministries/
CATEGORIES:City Beautification
END:VEVENT
END:VCALENDAR