BEGIN:VCALENDAR
VERSION:2.0
PRODID:-//Harrisburg Young Professionals - ECPv6.15.17.1//NONSGML v1.0//EN
CALSCALE:GREGORIAN
METHOD:PUBLISH
X-WR-CALNAME:Harrisburg Young Professionals
X-ORIGINAL-URL:https://hyp.org
X-WR-CALDESC:Events for Harrisburg Young Professionals
REFRESH-INTERVAL;VALUE=DURATION:PT1H
X-Robots-Tag:noindex
X-PUBLISHED-TTL:PT1H
BEGIN:VTIMEZONE
TZID:America/New_York
BEGIN:DAYLIGHT
TZOFFSETFROM:-0500
TZOFFSETTO:-0400
TZNAME:EDT
DTSTART:20240310T070000
END:DAYLIGHT
BEGIN:STANDARD
TZOFFSETFROM:-0400
TZOFFSETTO:-0500
TZNAME:EST
DTSTART:20241103T060000
END:STANDARD
BEGIN:DAYLIGHT
TZOFFSETFROM:-0500
TZOFFSETTO:-0400
TZNAME:EDT
DTSTART:20250309T070000
END:DAYLIGHT
BEGIN:STANDARD
TZOFFSETFROM:-0400
TZOFFSETTO:-0500
TZNAME:EST
DTSTART:20251102T060000
END:STANDARD
BEGIN:DAYLIGHT
TZOFFSETFROM:-0500
TZOFFSETTO:-0400
TZNAME:EDT
DTSTART:20260308T070000
END:DAYLIGHT
BEGIN:STANDARD
TZOFFSETFROM:-0400
TZOFFSETTO:-0500
TZNAME:EST
DTSTART:20261101T060000
END:STANDARD
END:VTIMEZONE
BEGIN:VEVENT
DTSTART;TZID=America/New_York:20251020T180000
DTEND;TZID=America/New_York:20251020T190000
DTSTAMP:20260420T050217
CREATED:20250109T221544Z
LAST-MODIFIED:20250109T221544Z
UID:10001273-1760983200-1760986800@hyp.org
SUMMARY:City Living and Beautification Committee
DESCRIPTION:HYP’s City Living and Beautification Committee will meet monthly on the 3rd Monday at High Dive on 3rd St.
URL:https://hyp.org/event/city-living-and-beautification-committee-2/2025-10-20/
CATEGORIES:City Living
END:VEVENT
BEGIN:VEVENT
DTSTART;TZID=America/New_York:20251019T140000
DTEND;TZID=America/New_York:20251019T160000
DTSTAMP:20260420T050217
CREATED:20250809T142805Z
LAST-MODIFIED:20250809T142805Z
UID:10001506-1760882400-1760889600@hyp.org
SUMMARY:HYP Book Club: Selected Horror Stories of H.P. Lovecraft
DESCRIPTION:“The oldest and strongest emotion of mankind is fear\, and the oldest and strongest kind of fear is fear of the unknown.” In the spirit of the Halloween season\, the HYP Book Club will be reading a collection of short stories from the master of cosmic horror\, H. P. Lovecraft. The following stories will be discussed: \nDagon\, Nyarlathotep\, The Call of Cthulhu\, The Color Out of Space\, The Dunwich Horror\, The Whisperer in Darkness\, At the Mountains of Madness\, The Shadow Over Innsmouth\, The Dreams in the Witch House\, and The Shadow Out of Time \nThese stories are all in the public domain and can easily be found for free here. \nContent Warning: These stories were published between 1923 and 1936 and in some cases contain outdated and racist language. While these ideas are not the focus of the stories\, we still wanted to make potential readers aware of their inclusion. \nIf you have any questions\, please reach out to Dave Beaver at d4veb3aver@gmail.com
URL:https://hyp.org/event/hyp-book-club-selected-horror-stories-of-h-p-lovecraft/
CATEGORIES:Arts
END:VEVENT
BEGIN:VEVENT
DTSTART;VALUE=DATE:20251019
DTEND;VALUE=DATE:20251020
DTSTAMP:20260420T050217
CREATED:20250411T003841Z
LAST-MODIFIED:20250411T003841Z
UID:10001472-1760832000-1760918399@hyp.org
SUMMARY:Fall Flag Football
DESCRIPTION:HYP’s Fall Flag Football league is played from September through October. Stay tuned for updates on the game locations in the upcoming weeks! For information on other sports leagues visit hyp.org/sports.
URL:https://hyp.org/event/fall-flag-football/2025-10-19/
CATEGORIES:Sports
END:VEVENT
BEGIN:VEVENT
DTSTART;TZID=America/New_York:20251018T090000
DTEND;TZID=America/New_York:20251018T100000
DTSTAMP:20260420T050217
CREATED:20241220T192647Z
LAST-MODIFIED:20241220T192647Z
UID:10001265-1760778000-1760781600@hyp.org
SUMMARY:HYP Running Club
DESCRIPTION:The HYP Running Club is a friendly\, supportive community within Harrisburg Young Professionals for anyone interested in social running. Novice runners training for their first 5K and experienced marathoners alike are welcome and encouraged to join us on our casual group runs. Members interested in running races receive a discounted registration rate at many popular Harrisburg area events. The HYP Running Club meets on the first and third Saturday of the month for runs\, jogs\, and walks. \n\nGroup meets every first and third Saturday at 9:00 am on City Island in front of the Senators FNB stadium for a walk\, hike or run ranging from 1.5 – 3 miles – meetings subject to change per weather/season. Check Facebook for any updates.\nGroup participates in local races and signs up as an HYP team where possible.\n\nBefore joining us for your first run\, please complete this form and email to sports@hyp.org \nPlease reach out to sports@hyp.org today for more information on joining!
URL:https://hyp.org/event/hyp-running-club-2-2025-09-13/2025-10-18/
CATEGORIES:Sports
END:VEVENT
BEGIN:VEVENT
DTSTART;TZID=America/New_York:20251016T180000
DTEND;TZID=America/New_York:20251016T220000
DTSTAMP:20260420T050217
CREATED:20250411T003557Z
LAST-MODIFIED:20250411T003557Z
UID:10001461-1760637600-1760652000@hyp.org
SUMMARY:Fall Volleyball
DESCRIPTION:HYP’s Fall Volleyball league is played from September through October at City Island. For information on other sports leagues visit hyp.org/sports
URL:https://hyp.org/event/fall-volleyball-2/2025-10-16/
CATEGORIES:Sports
END:VEVENT
BEGIN:VEVENT
DTSTART;TZID=America/New_York:20251015T173000
DTEND;TZID=America/New_York:20251015T183000
DTSTAMP:20260420T050217
CREATED:20250917T131439Z
LAST-MODIFIED:20250917T131439Z
UID:10001518-1760549400-1760553000@hyp.org
SUMMARY:Marketing Committee Meeting
DESCRIPTION:HYP’s marketing committee will meet on the third Wednesday of every month at Pursuit Coworking!
URL:https://hyp.org/event/marketing-committee-meeting-6/2025-10-15/
CATEGORIES:Marketing
END:VEVENT
BEGIN:VEVENT
DTSTART;TZID=America/New_York:20251014T180000
DTEND;TZID=America/New_York:20251014T220000
DTSTAMP:20260420T050217
CREATED:20250411T003557Z
LAST-MODIFIED:20250411T003557Z
UID:10001460-1760464800-1760479200@hyp.org
SUMMARY:Fall Volleyball
DESCRIPTION:HYP’s Fall Volleyball league is played from September through October at City Island. For information on other sports leagues visit hyp.org/sports
URL:https://hyp.org/event/fall-volleyball-2/2025-10-14/
CATEGORIES:Sports
END:VEVENT
BEGIN:VEVENT
DTSTART;TZID=America/New_York:20251014T180000
DTEND;TZID=America/New_York:20251014T193000
DTSTAMP:20260420T050217
CREATED:20250207T141955Z
LAST-MODIFIED:20250207T141955Z
UID:10001339-1760464800-1760470200@hyp.org
SUMMARY:HYP Toastmasters Meeting
DESCRIPTION:For 2025\, HYP Toastmasters will meet every second and fourth Tuesday of the month at Harrisburg University in room 1354. \nInteresting in learning more? Contact hyptoast@gmail.com
URL:https://hyp.org/event/hyp-toastmasters-meeting-5/2025-10-14/
CATEGORIES:Toastmasters
END:VEVENT
BEGIN:VEVENT
DTSTART;VALUE=DATE:20251012
DTEND;VALUE=DATE:20251013
DTSTAMP:20260420T050217
CREATED:20250411T003841Z
LAST-MODIFIED:20250411T003841Z
UID:10001471-1760227200-1760313599@hyp.org
SUMMARY:Fall Flag Football
DESCRIPTION:HYP’s Fall Flag Football league is played from September through October. Stay tuned for updates on the game locations in the upcoming weeks! For information on other sports leagues visit hyp.org/sports.
URL:https://hyp.org/event/fall-flag-football/2025-10-12/
CATEGORIES:Sports
END:VEVENT
BEGIN:VEVENT
DTSTART;TZID=America/New_York:20251009T180000
DTEND;TZID=America/New_York:20251009T220000
DTSTAMP:20260420T050217
CREATED:20250411T003557Z
LAST-MODIFIED:20250411T003557Z
UID:10001459-1760032800-1760047200@hyp.org
SUMMARY:Fall Volleyball
DESCRIPTION:HYP’s Fall Volleyball league is played from September through October at City Island. For information on other sports leagues visit hyp.org/sports
URL:https://hyp.org/event/fall-volleyball-2/2025-10-09/
CATEGORIES:Sports
END:VEVENT
BEGIN:VEVENT
DTSTART;TZID=America/New_York:20251008T170000
DTEND;TZID=America/New_York:20251008T180000
DTSTAMP:20260420T050217
CREATED:20250109T223509Z
LAST-MODIFIED:20250109T223509Z
UID:10001295-1759942800-1759946400@hyp.org
SUMMARY:Sports Committee Meeting
DESCRIPTION:HYP’s Sports and Fitness Committee will meet at the HYP office on the second Wednesday of the month.
URL:https://hyp.org/event/sports-committee-meeting-2/2025-10-08/
CATEGORIES:Sports
END:VEVENT
BEGIN:VEVENT
DTSTART;TZID=America/New_York:20251007T183000
DTEND;TZID=America/New_York:20251007T193000
DTSTAMP:20260420T050217
CREATED:20250109T223811Z
LAST-MODIFIED:20250109T223811Z
UID:10001306-1759861800-1759865400@hyp.org
SUMMARY:Arts Committee Meeting
DESCRIPTION:Update! \nHYP’s Arts Committee has changed both the venue and time for this month’s meeting. We’ll now be gathering at Zero Day at 6:30 PM. See you there!
URL:https://hyp.org/event/arts-committee-meeting-5-2025-04-09-2025-10-08/
CATEGORIES:Arts,Professional Development
END:VEVENT
BEGIN:VEVENT
DTSTART;TZID=America/New_York:20251007T180000
DTEND;TZID=America/New_York:20251007T220000
DTSTAMP:20260420T050217
CREATED:20250411T003557Z
LAST-MODIFIED:20250411T003557Z
UID:10001458-1759860000-1759874400@hyp.org
SUMMARY:Fall Volleyball
DESCRIPTION:HYP’s Fall Volleyball league is played from September through October at City Island. For information on other sports leagues visit hyp.org/sports
URL:https://hyp.org/event/fall-volleyball-2/2025-10-07/
CATEGORIES:Sports
END:VEVENT
BEGIN:VEVENT
DTSTART;TZID=America/New_York:20251006T180000
DTEND;TZID=America/New_York:20251006T190000
DTSTAMP:20260420T050217
CREATED:20250109T223131Z
LAST-MODIFIED:20250109T223131Z
UID:10001284-1759773600-1759777200@hyp.org
SUMMARY:Membership and Social Committee Meeting
DESCRIPTION:In 2025\, HYP’s Membership and Social Committees will meet on the first Monday of each month at HMAC.
URL:https://hyp.org/event/membership-and-social-committee-meeting/2025-10-06/
CATEGORIES:Membership,Social
END:VEVENT
BEGIN:VEVENT
DTSTART;TZID=America/New_York:20251005T080000
DTEND;TZID=America/New_York:20251010T220000
DTSTAMP:20260420T050217
CREATED:20250916T184147Z
LAST-MODIFIED:20250916T184147Z
UID:10001516-1759651200-1760133600@hyp.org
SUMMARY:Points for Paws
DESCRIPTION:Compete with your team in a new way while helping out our furry neighbors! Bring a bag of dog or cat treats to your HYP Sports League game between October 5 and 10 to support the Humane Society of Harrisburg Area. Each donated bag earns your team one point!  \nAt the end of the drive\, the first and second place teams will win a $100 and $50 gift card\, respectively\, to Harrisburg Beach Club. We thank Harrisburg Beach Club for their sponsorship. \nThese are our eligible games: \n-Flag Football\, Camp Curtain Middle School\, October 5 \n-Volleyball\, Harrisburg Beach Club\, October 7 and 9
URL:https://hyp.org/event/points-for-paws/
CATEGORIES:Outreach
END:VEVENT
BEGIN:VEVENT
DTSTART;VALUE=DATE:20251005
DTEND;VALUE=DATE:20251006
DTSTAMP:20260420T050217
CREATED:20250411T003841Z
LAST-MODIFIED:20250411T003841Z
UID:10001470-1759622400-1759708799@hyp.org
SUMMARY:Fall Flag Football
DESCRIPTION:HYP’s Fall Flag Football league is played from September through October. Stay tuned for updates on the game locations in the upcoming weeks! For information on other sports leagues visit hyp.org/sports.
URL:https://hyp.org/event/fall-flag-football/2025-10-05/
CATEGORIES:Sports
END:VEVENT
BEGIN:VEVENT
DTSTART;TZID=America/New_York:20251004T090000
DTEND;TZID=America/New_York:20251004T100000
DTSTAMP:20260420T050217
CREATED:20241220T192647Z
LAST-MODIFIED:20241220T192647Z
UID:10001264-1759568400-1759572000@hyp.org
SUMMARY:HYP Running Club
DESCRIPTION:The HYP Running Club is a friendly\, supportive community within Harrisburg Young Professionals for anyone interested in social running. Novice runners training for their first 5K and experienced marathoners alike are welcome and encouraged to join us on our casual group runs. Members interested in running races receive a discounted registration rate at many popular Harrisburg area events. The HYP Running Club meets on the first and third Saturday of the month for runs\, jogs\, and walks. \n\nGroup meets every first and third Saturday at 9:00 am on City Island in front of the Senators FNB stadium for a walk\, hike or run ranging from 1.5 – 3 miles – meetings subject to change per weather/season. Check Facebook for any updates.\nGroup participates in local races and signs up as an HYP team where possible.\n\nBefore joining us for your first run\, please complete this form and email to sports@hyp.org \nPlease reach out to sports@hyp.org today for more information on joining!
URL:https://hyp.org/event/hyp-running-club-2-2025-09-13/2025-10-04/
CATEGORIES:Sports
END:VEVENT
BEGIN:VEVENT
DTSTART;TZID=America/New_York:20251003T180000
DTEND;TZID=America/New_York:20251003T200000
DTSTAMP:20260420T050217
CREATED:20250909T222019Z
LAST-MODIFIED:20250909T222019Z
UID:10001515-1759514400-1759521600@hyp.org
SUMMARY:First Friday Social
DESCRIPTION:Join HYP at our First Friday Social at Rookies Craft Burger Bar on Friday\, October 3rd from 6-8 PM! \nIn the heart of Harrisburg\, Rookies Burger Bar has been dedicated to serving the finest chicken wings since its inception. Rookies Craft Burger Bar is the ultimate flavor journey with its legendary chicken wings\, crafted to perfection and celebrated by many Harrisburg locals and visitors. The restaurant’s mission is to provide a welcoming atmosphere where friends and families can enjoy delicious food and create lasting memories. The restaurant prides itself on using only the freshest ingredients\, ensuring every wing is packed with flavor and cooked to perfection. \nCome out and have the opportunity to meet with fellow HYP Members and build new relationships with those who Live\, Work\, and Play in Harrisburg. We look forward to meeting with all of you! Not a member yet? Click here to join! \nShould you have any questions and/or comments\, please feel free to contact the HYP Social Committee at social@hyp.org.
URL:https://hyp.org/event/first-friday-social-9/
CATEGORIES:Social
END:VEVENT
BEGIN:VEVENT
DTSTART;TZID=America/New_York:20251002T180000
DTEND;TZID=America/New_York:20251002T220000
DTSTAMP:20260420T050217
CREATED:20250411T003557Z
LAST-MODIFIED:20250411T003557Z
UID:10001457-1759428000-1759442400@hyp.org
SUMMARY:Fall Volleyball
DESCRIPTION:HYP’s Fall Volleyball league is played from September through October at City Island. For information on other sports leagues visit hyp.org/sports
URL:https://hyp.org/event/fall-volleyball-2/2025-10-02/
CATEGORIES:Sports
END:VEVENT
BEGIN:VEVENT
DTSTART;TZID=America/New_York:20250930T180000
DTEND;TZID=America/New_York:20250930T220000
DTSTAMP:20260420T050217
CREATED:20250411T003557Z
LAST-MODIFIED:20250411T003557Z
UID:10001456-1759255200-1759269600@hyp.org
SUMMARY:Fall Volleyball
DESCRIPTION:HYP’s Fall Volleyball league is played from September through October at City Island. For information on other sports leagues visit hyp.org/sports
URL:https://hyp.org/event/fall-volleyball-2/2025-09-30/
CATEGORIES:Sports
END:VEVENT
BEGIN:VEVENT
DTSTART;TZID=America/New_York:20250928T140000
DTEND;TZID=America/New_York:20250928T160000
DTSTAMP:20260420T050217
CREATED:20250809T142146Z
LAST-MODIFIED:20250809T142146Z
UID:10001505-1759068000-1759075200@hyp.org
SUMMARY:HYP Book Club: “Moral Ambition”
DESCRIPTION:This month\, the HYP Book Club is reading ‘Moral Ambition’ from international bestselling author Rutger Bregman. Here he reveals how our conventional definitions of success are harming us and the planet\, and shows how we can shift the focus from personal gain to societal benefit. In the process\, he explains\, we will join a growing movement of pioneers who are already living out this ethos. They’re the builders\, the problem-solvers\, the doers who have chosen a path less traveled. A guidebook to finding that path for ourselves\, Moral Ambition reminds us that the real measure of success lies not in what we accumulate but in what we contribute\, and shows how we\, too\, can build a legacy that truly matters. \nThis event requires registration. Click here to register.\nPlease send any questions to Dave Beaver at d4veb3aver@gmail.com
URL:https://hyp.org/event/hyp-book-club-moral-ambition/
CATEGORIES:Arts
END:VEVENT
BEGIN:VEVENT
DTSTART;VALUE=DATE:20250928
DTEND;VALUE=DATE:20250929
DTSTAMP:20260420T050217
CREATED:20250411T003841Z
LAST-MODIFIED:20250411T003841Z
UID:10001469-1759017600-1759103999@hyp.org
SUMMARY:Fall Flag Football
DESCRIPTION:HYP’s Fall Flag Football league is played from September through October. Stay tuned for updates on the game locations in the upcoming weeks! For information on other sports leagues visit hyp.org/sports.
URL:https://hyp.org/event/fall-flag-football/2025-09-28/
CATEGORIES:Sports
END:VEVENT
BEGIN:VEVENT
DTSTART;TZID=America/New_York:20250926T180000
DTEND;TZID=America/New_York:20250926T200000
DTSTAMP:20260420T050217
CREATED:20250529T201701Z
LAST-MODIFIED:20250529T201701Z
UID:10001492-1758909600-1758916800@hyp.org
SUMMARY:Game Night
DESCRIPTION:Join HYP for Game Night!\n\nEnjoy a fun evening of games and great company with fellow HYP members! Whether you’re into board games\, card games\, or just a good conversation\, this is a perfect chance to relax\, connect\, and have a great time. Don’t miss out on the friendly competition and laughs! \nCome out and have the opportunity to meet with fellow HYP Members and build new relationships with those who Live\, Work\, and Play in Harrisburg. We look forward to meeting with all of you! Not a member yet? You can join here! \nShould you have any questions and/or comments\, please feel free to contact HYP Social Committee at social@hyp.org.
URL:https://hyp.org/event/game-night-4/
CATEGORIES:Social
END:VEVENT
BEGIN:VEVENT
DTSTART;TZID=America/New_York:20250925T180000
DTEND;TZID=America/New_York:20250925T220000
DTSTAMP:20260420T050217
CREATED:20250411T003557Z
LAST-MODIFIED:20250411T003557Z
UID:10001455-1758823200-1758837600@hyp.org
SUMMARY:Fall Volleyball
DESCRIPTION:HYP’s Fall Volleyball league is played from September through October at City Island. For information on other sports leagues visit hyp.org/sports
URL:https://hyp.org/event/fall-volleyball-2/2025-09-25/
CATEGORIES:Sports
END:VEVENT
BEGIN:VEVENT
DTSTART;TZID=America/New_York:20250924T180000
DTEND;TZID=America/New_York:20250924T200000
DTSTAMP:20260420T050217
CREATED:20250903T215717Z
LAST-MODIFIED:20250903T215717Z
UID:10001513-1758736800-1758744000@hyp.org
SUMMARY:New Member Social & Smores
DESCRIPTION:Join HYP for our September New Member Social and mix up your midweek at Harrisburg Beach Club! Come socialize\, make new connections\, and learn more about all the great HYP committees that help make Harrisburg a better place to live\, work\, and play. Our amazing hosts at Harrisburg Beach Club will have refreshments available\, and s’mores provided by HYP at this event. Just sign up and show up on Wednesday\, September 24th\, from 6 to 8 PM. \nIf you have any questions\, contact membership@hyp.org
URL:https://hyp.org/event/new-member-social-smores/
CATEGORIES:Membership
END:VEVENT
BEGIN:VEVENT
DTSTART;TZID=America/New_York:20250923T180000
DTEND;TZID=America/New_York:20250923T220000
DTSTAMP:20260420T050217
CREATED:20250411T003557Z
LAST-MODIFIED:20250411T003557Z
UID:10001454-1758650400-1758664800@hyp.org
SUMMARY:Fall Volleyball
DESCRIPTION:HYP’s Fall Volleyball league is played from September through October at City Island. For information on other sports leagues visit hyp.org/sports
URL:https://hyp.org/event/fall-volleyball-2/2025-09-23/
CATEGORIES:Sports
END:VEVENT
BEGIN:VEVENT
DTSTART;VALUE=DATE:20250921
DTEND;VALUE=DATE:20250922
DTSTAMP:20260420T050217
CREATED:20250411T003841Z
LAST-MODIFIED:20250411T003841Z
UID:10001468-1758412800-1758499199@hyp.org
SUMMARY:Fall Flag Football
DESCRIPTION:HYP’s Fall Flag Football league is played from September through October. Stay tuned for updates on the game locations in the upcoming weeks! For information on other sports leagues visit hyp.org/sports.
URL:https://hyp.org/event/fall-flag-football/2025-09-21/
CATEGORIES:Sports
END:VEVENT
BEGIN:VEVENT
DTSTART;TZID=America/New_York:20250920T090000
DTEND;TZID=America/New_York:20250920T100000
DTSTAMP:20260420T050217
CREATED:20241220T192647Z
LAST-MODIFIED:20241220T192647Z
UID:10001263-1758358800-1758362400@hyp.org
SUMMARY:HYP Running Club
DESCRIPTION:The HYP Running Club is a friendly\, supportive community within Harrisburg Young Professionals for anyone interested in social running. Novice runners training for their first 5K and experienced marathoners alike are welcome and encouraged to join us on our casual group runs. Members interested in running races receive a discounted registration rate at many popular Harrisburg area events. The HYP Running Club meets on the first and third Saturday of the month for runs\, jogs\, and walks. \n\nGroup meets every first and third Saturday at 9:00 am on City Island in front of the Senators FNB stadium for a walk\, hike or run ranging from 1.5 – 3 miles – meetings subject to change per weather/season. Check Facebook for any updates.\nGroup participates in local races and signs up as an HYP team where possible.\n\nBefore joining us for your first run\, please complete this form and email to sports@hyp.org \nPlease reach out to sports@hyp.org today for more information on joining!
URL:https://hyp.org/event/hyp-running-club-2-2025-09-13/2025-09-20/
CATEGORIES:Sports
END:VEVENT
BEGIN:VEVENT
DTSTART;TZID=America/New_York:20250919T180000
DTEND;TZID=America/New_York:20250919T200000
DTSTAMP:20260420T050217
CREATED:20250820T123614Z
LAST-MODIFIED:20250820T123614Z
UID:10001512-1758304800-1758312000@hyp.org
SUMMARY:Craft Night
DESCRIPTION:Bring your own craft and join Harrisburg Young Professionals for an evening of creativity and connection! Whether you love drawing\, origami\, scrapbooking\, knitting\, coloring books or other crafts\, this is your chance to express your artistic side with good company. Please bring only easy-clean crafts. No paints\, dyes\, or spillable substances. \nThis event will be held at Pursuit Coworking. No RSVP\, registration\, or membership required. Just come ready to create\, enjoy some light refreshments\, and have fun! \nWe look forward to seeing what you make! Not a member yet? Click here to join!  \nShould you have any questions and/or comments\, please feel free to contact the HYP Arts Committee at arts@hyp.org.
URL:https://hyp.org/event/craft-night/
CATEGORIES:Arts
END:VEVENT
BEGIN:VEVENT
DTSTART;TZID=America/New_York:20250918T180000
DTEND;TZID=America/New_York:20250918T220000
DTSTAMP:20260420T050217
CREATED:20250411T003557Z
LAST-MODIFIED:20250411T003557Z
UID:10001453-1758218400-1758232800@hyp.org
SUMMARY:Fall Volleyball
DESCRIPTION:HYP’s Fall Volleyball league is played from September through October at City Island. For information on other sports leagues visit hyp.org/sports
URL:https://hyp.org/event/fall-volleyball-2/2025-09-18/
CATEGORIES:Sports
END:VEVENT
END:VCALENDAR