BEGIN:VCALENDAR
VERSION:2.0
PRODID:-//Harrisburg Young Professionals - ECPv6.15.17.1//NONSGML v1.0//EN
CALSCALE:GREGORIAN
METHOD:PUBLISH
X-ORIGINAL-URL:https://hyp.org
X-WR-CALDESC:Events for Harrisburg Young Professionals
REFRESH-INTERVAL;VALUE=DURATION:PT1H
X-Robots-Tag:noindex
X-PUBLISHED-TTL:PT1H
BEGIN:VTIMEZONE
TZID:America/New_York
BEGIN:DAYLIGHT
TZOFFSETFROM:-0500
TZOFFSETTO:-0400
TZNAME:EDT
DTSTART:20250309T070000
END:DAYLIGHT
BEGIN:STANDARD
TZOFFSETFROM:-0400
TZOFFSETTO:-0500
TZNAME:EST
DTSTART:20251102T060000
END:STANDARD
BEGIN:DAYLIGHT
TZOFFSETFROM:-0500
TZOFFSETTO:-0400
TZNAME:EDT
DTSTART:20260308T070000
END:DAYLIGHT
BEGIN:STANDARD
TZOFFSETFROM:-0400
TZOFFSETTO:-0500
TZNAME:EST
DTSTART:20261101T060000
END:STANDARD
BEGIN:DAYLIGHT
TZOFFSETFROM:-0500
TZOFFSETTO:-0400
TZNAME:EDT
DTSTART:20270314T070000
END:DAYLIGHT
BEGIN:STANDARD
TZOFFSETFROM:-0400
TZOFFSETTO:-0500
TZNAME:EST
DTSTART:20271107T060000
END:STANDARD
END:VTIMEZONE
BEGIN:VEVENT
DTSTART;TZID=America/New_York:20260313T180000
DTEND;TZID=America/New_York:20260313T200000
DTSTAMP:20260424T074830
CREATED:20260213T223802Z
LAST-MODIFIED:20260213T223802Z
UID:10001604-1773424800-1773432000@hyp.org
SUMMARY:Saddle Up at Nocturnal ⭐
DESCRIPTION:Saddle up and join Harrisburg Young Professionals for a high-energy night out at Nocturnal in downtown Harrisburg! This western-themed event brings together great people\, great drinks\, and a one-of-a-kind experience you won’t find anywhere else. \n🕕 Time: Friday\, March 13 | 6:00–8:00 PM\n📍 Location: Nocturnal – Downtown Harrisburg \nThe first 30 guests to arrive will receive a free drink ticket\, courtesy of HYP. Enjoy a HYP drink special available throughout the event from 6:00–8:00 PM. \nThink you can hang on? Take a ride on Nocturnal’s mechanical bull and compete for bragging rights — plus a $25 Nocturnal gift card awarded to the guest who rides the bull the longest! \nWhether you’re coming to ride\, cheer on friends\, or just enjoy the atmosphere\, this is the perfect way to kick off your Friday night. Bring a friend and saddle up for a fun\, unforgettable HYP experience.
URL:https://hyp.org/event/saddle-up-at-nocturnal-%e2%ad%90/
LOCATION:PA
CATEGORIES:Social
END:VEVENT
END:VCALENDAR