BEGIN:VCALENDAR
VERSION:2.0
PRODID:-//Harrisburg Young Professionals - ECPv6.15.17.1//NONSGML v1.0//EN
CALSCALE:GREGORIAN
METHOD:PUBLISH
X-ORIGINAL-URL:https://hyp.org
X-WR-CALDESC:Events for Harrisburg Young Professionals
REFRESH-INTERVAL;VALUE=DURATION:PT1H
X-Robots-Tag:noindex
X-PUBLISHED-TTL:PT1H
BEGIN:VTIMEZONE
TZID:America/New_York
BEGIN:DAYLIGHT
TZOFFSETFROM:-0500
TZOFFSETTO:-0400
TZNAME:EDT
DTSTART:20240310T070000
END:DAYLIGHT
BEGIN:STANDARD
TZOFFSETFROM:-0400
TZOFFSETTO:-0500
TZNAME:EST
DTSTART:20241103T060000
END:STANDARD
BEGIN:DAYLIGHT
TZOFFSETFROM:-0500
TZOFFSETTO:-0400
TZNAME:EDT
DTSTART:20250309T070000
END:DAYLIGHT
BEGIN:STANDARD
TZOFFSETFROM:-0400
TZOFFSETTO:-0500
TZNAME:EST
DTSTART:20251102T060000
END:STANDARD
BEGIN:DAYLIGHT
TZOFFSETFROM:-0500
TZOFFSETTO:-0400
TZNAME:EDT
DTSTART:20260308T070000
END:DAYLIGHT
BEGIN:STANDARD
TZOFFSETFROM:-0400
TZOFFSETTO:-0500
TZNAME:EST
DTSTART:20261101T060000
END:STANDARD
END:VTIMEZONE
BEGIN:VEVENT
DTSTART;TZID=America/New_York:20251119T180000
DTEND;TZID=America/New_York:20251119T200000
DTSTAMP:20260420T012816
CREATED:20251111T172534Z
LAST-MODIFIED:20251111T172534Z
UID:10001523-1763575200-1763582400@hyp.org
SUMMARY:New Member Social
DESCRIPTION:Join HYP for our November New Member Social and mix up your midweek at Harrisburg Midtown Arts Center! \nCome socialize\, make new connections\, and learn more about all the great HYP committees that help make Harrisburg a better place to live\, work\, and play. Our amazing hosts at HMAC will have food and drinks available for purchase at this event. Just sign up and show up Wednesday November 19th from 6 to 8 PM. \nThis event is open for both members and nonmembers\, to register click here. \nIf you have any questions\, contact membership@hyp.org
URL:https://hyp.org/event/new-member-social-20/
CATEGORIES:Membership,Social
END:VEVENT
END:VCALENDAR