BEGIN:VCALENDAR
VERSION:2.0
PRODID:-//Harrisburg Young Professionals - ECPv6.15.17.1//NONSGML v1.0//EN
CALSCALE:GREGORIAN
METHOD:PUBLISH
X-ORIGINAL-URL:https://hyp.org
X-WR-CALDESC:Events for Harrisburg Young Professionals
REFRESH-INTERVAL;VALUE=DURATION:PT1H
X-Robots-Tag:noindex
X-PUBLISHED-TTL:PT1H
BEGIN:VTIMEZONE
TZID:America/New_York
BEGIN:DAYLIGHT
TZOFFSETFROM:-0500
TZOFFSETTO:-0400
TZNAME:EDT
DTSTART:20180311T070000
END:DAYLIGHT
BEGIN:STANDARD
TZOFFSETFROM:-0400
TZOFFSETTO:-0500
TZNAME:EST
DTSTART:20181104T060000
END:STANDARD
BEGIN:DAYLIGHT
TZOFFSETFROM:-0500
TZOFFSETTO:-0400
TZNAME:EDT
DTSTART:20190310T070000
END:DAYLIGHT
BEGIN:STANDARD
TZOFFSETFROM:-0400
TZOFFSETTO:-0500
TZNAME:EST
DTSTART:20191103T060000
END:STANDARD
BEGIN:DAYLIGHT
TZOFFSETFROM:-0500
TZOFFSETTO:-0400
TZNAME:EDT
DTSTART:20200308T070000
END:DAYLIGHT
BEGIN:STANDARD
TZOFFSETFROM:-0400
TZOFFSETTO:-0500
TZNAME:EST
DTSTART:20201101T060000
END:STANDARD
BEGIN:DAYLIGHT
TZOFFSETFROM:-0500
TZOFFSETTO:-0400
TZNAME:EDT
DTSTART:20210314T070000
END:DAYLIGHT
BEGIN:STANDARD
TZOFFSETFROM:-0400
TZOFFSETTO:-0500
TZNAME:EST
DTSTART:20211107T060000
END:STANDARD
END:VTIMEZONE
BEGIN:VEVENT
DTSTART;TZID=America/New_York:20200330T173000
DTEND;TZID=America/New_York:20200330T183000
DTSTAMP:20260419T200543
CREATED:20200123T143813Z
LAST-MODIFIED:20200123T143813Z
UID:10000601-1585589400-1585593000@hyp.org
SUMMARY:Marketing Committee Meeting
DESCRIPTION:This meeting is to discuss & collaborate on marketing initiatives and discuss new ways to market HYP.  Contact us at marketing@hyp.org for more details.
URL:https://hyp.org/event/marketing-committee-meeting-3-2020-03-30/
CATEGORIES:Committee Meetings
END:VEVENT
BEGIN:VEVENT
DTSTART;TZID=America/New_York:20200325T180000
DTEND;TZID=America/New_York:20200325T200000
DTSTAMP:20260419T200543
CREATED:20191218T210227Z
LAST-MODIFIED:20191218T210227Z
UID:10000592-1585159200-1585166400@hyp.org
SUMMARY:Arts/International & Social Committee Meetings
DESCRIPTION:The Arts Committee strives to enrich the lives of HYP members by illuminating the cultural diversity of Harrisburg. We offer access to the wide array of arts and cultural events that exist in the city while showcasing events involving and illustrating the arts. We also partner with educational institutions and local organizations to promote the Harrisburg Young Professionals mission. \nThe Arts Committee always welcomes new members who are interested in the arts and culture in Harrisburg. We’re looking for individuals who are excited about planning and implementing new and ongoing events to highlight and showcase what the city has to offer! Please contact us at arts@hyp.org at any time to learn more about the committee and to join us at our next meeting. \nThe HYP Social Committee plans and organizes HYP social events throughout the city of Harrisburg. HYP social events introduce HYP members to city businesses\, entertainment\, and recreational activities\, as well as provide a forum for networking and professional development. \nThe Social Committee hosts the monthly HYP First Friday Happy Hour and Second Wednesday Social events and plans the annual HYP Date Auction and Holiday Gala.\nThe Social Committee is always looking for new\, enthusiastic committee members to help plan HYP events. To join us for an upcoming Social Committee meeting\, please contact us at social@hyp.org.
URL:https://hyp.org/event/arts-international-social-committee-meetings-2020-03-25/
CATEGORIES:Committee Meetings
END:VEVENT
BEGIN:VEVENT
DTSTART;TZID=America/New_York:20200302T180000
DTEND;TZID=America/New_York:20200302T193000
DTSTAMP:20260419T200543
CREATED:20200121T204010Z
LAST-MODIFIED:20200121T204010Z
UID:10000593-1583172000-1583177400@hyp.org
SUMMARY:Membership & Economic Development Committee Meetings
DESCRIPTION:The HYP Economic Development Committee strives to encourage economic development initiatives in the City of Harrisburg. We initiate and support local\, collaborative projects and programs with community partners that are focused on growing the City’s assets to generate and build a brighter future. We channel the creativity\, knowledge\, and energy of HYP members to advance development here in Harrisburg. If you are an individual interested in joining our committee’s efforts or a community organization looking to collaborate\, please contact us at development@hyp.org. \nThe Membership Committee works to promote HYP to new and current members\, communicate the value of an HYP membership\, and get to know new members of the organization. The Membership Committee welcomes members at HYP events\, helps direct new members to a committee of interest\, hosts New Member Socials to introduce new members to the organization\, and manages the HYP Passport Program\, which features HYP Member benefits. \nThe committee is always looking for new\, enthusiastic members to join the committee and help its efforts. Please contact us at membership@hyp.org to find out more information and join us at our next meeting.
URL:https://hyp.org/event/membership-economic-development-committee-meetings-2-2020-03-02/
CATEGORIES:Committee Meetings
END:VEVENT
BEGIN:VEVENT
DTSTART;TZID=America/New_York:20200218T180000
DTEND;TZID=America/New_York:20200218T190000
DTSTAMP:20260419T200543
CREATED:20200117T210030Z
LAST-MODIFIED:20200117T210030Z
UID:10000590-1582048800-1582052400@hyp.org
SUMMARY:Outreach Committee Meeting
DESCRIPTION:Do you have an interest in giving back to your community?  Would you enjoy spending free time having a positive impact on the lives of those around you? If so\, the Outreach Committee is the place for you. \nThe HYP Outreach Committee is committed to developing initiatives and programs specifically related to positive impacts on children in Harrisburg. \nThe committee features programming such as HYP Junior Sports Leagues and HYP Lemonade Day\, offering mentoring opportunities for HYP volunteers to work with Harrisburg School District children. HYP Outreach Committee welcomes new committee members and volunteers throughout the year. For more information and to get involved with the Outreach Committee\, please contact us at outreach@hyp.org.
URL:https://hyp.org/event/outreach-committee-meeting-3/2020-02-18/
CATEGORIES:Committee Meetings
END:VEVENT
BEGIN:VEVENT
DTSTART;TZID=America/New_York:20200217T173000
DTEND;TZID=America/New_York:20200217T183000
DTSTAMP:20260419T200543
CREATED:20200123T143813Z
LAST-MODIFIED:20200123T143813Z
UID:10000600-1581960600-1581964200@hyp.org
SUMMARY:Marketing Committee Meeting
DESCRIPTION:This meeting is to discuss & collaborate on marketing initiatives and discuss new ways to market HYP.  Contact us at marketing@hyp.org for more details.
URL:https://hyp.org/event/marketing-committee-meeting-3-2020-02-24/
CATEGORIES:Committee Meetings
END:VEVENT
BEGIN:VEVENT
DTSTART;TZID=America/New_York:20200205T183000
DTEND;TZID=America/New_York:20200205T193000
DTSTAMP:20260419T200543
CREATED:20200122T153831Z
LAST-MODIFIED:20200122T153831Z
UID:10000597-1580927400-1580931000@hyp.org
SUMMARY:Sports & Fitness Committee Meeting
DESCRIPTION:Join the Sports and Fitness Committee in planning events\, helping with sports set up and tear down\, sports monitoring\, and more.  We meet on the first Wednesday of each month at 6:30 pm for a mini social & 6:45 pm our meeting starts.  Contact us at sports@hyp.org to learn more.
URL:https://hyp.org/event/sports-fitness-committee-meeting-3/2020-02-05/
CATEGORIES:Committee Meetings
END:VEVENT
BEGIN:VEVENT
DTSTART;TZID=America/New_York:20200204T183000
DTEND;TZID=America/New_York:20200204T193000
DTSTAMP:20260419T200543
CREATED:20200127T151130Z
LAST-MODIFIED:20200127T151130Z
UID:10000605-1580841000-1580844600@hyp.org
SUMMARY:City Living & Beautification Committee Meeting
DESCRIPTION:Join HYP’s City Living and City Beautification committees for their monthly meeting! Volunteer committee members help plan and coordinate the city beautification efforts for HYP\, including: \n\nAll major HYP cleanup events\nBeautification related workshops\nEducational opportunities\nand much more!
URL:https://hyp.org/event/city-living-beautification-committee-meeting/2020-02-04/
CATEGORIES:Committee Meetings
END:VEVENT
BEGIN:VEVENT
DTSTART;TZID=America/New_York:20200203T180000
DTEND;TZID=America/New_York:20200203T193000
DTSTAMP:20260419T200543
CREATED:20200121T204010Z
LAST-MODIFIED:20200121T204010Z
UID:10000591-1580752800-1580758200@hyp.org
SUMMARY:Membership & Economic Development Committee Meetings
DESCRIPTION:The HYP Economic Development Committee strives to encourage economic development initiatives in the City of Harrisburg. We initiate and support local\, collaborative projects and programs with community partners that are focused on growing the City’s assets to generate and build a brighter future. We channel the creativity\, knowledge\, and energy of HYP members to advance development here in Harrisburg. If you are an individual interested in joining our committee’s efforts or a community organization looking to collaborate\, please contact us at development@hyp.org. \nThe Membership Committee works to promote HYP to new and current members\, communicate the value of an HYP membership\, and get to know new members of the organization. The Membership Committee welcomes members at HYP events\, helps direct new members to a committee of interest\, hosts New Member Socials to introduce new members to the organization\, and manages the HYP Passport Program\, which features HYP Member benefits. \nThe committee is always looking for new\, enthusiastic members to join the committee and help its efforts. Please contact us at membership@hyp.org to find out more information and join us at our next meeting.
URL:https://hyp.org/event/membership-economic-development-committee-meetings-2/2020-02-03/
CATEGORIES:Committee Meetings
END:VEVENT
BEGIN:VEVENT
DTSTART;TZID=America/New_York:20200127T173000
DTEND;TZID=America/New_York:20200127T183000
DTSTAMP:20260419T200543
CREATED:20200123T143813Z
LAST-MODIFIED:20200123T143813Z
UID:10000599-1580146200-1580149800@hyp.org
SUMMARY:Marketing Committee Meeting
DESCRIPTION:This meeting is to discuss & collaborate on marketing initiatives and discuss new ways to market HYP.  Contact us at marketing@hyp.org for more details.
URL:https://hyp.org/event/marketing-committee-meeting-3/2020-01-27/
CATEGORIES:Committee Meetings
END:VEVENT
BEGIN:VEVENT
DTSTART;TZID=America/New_York:20200115T180000
DTEND;TZID=America/New_York:20200115T200000
DTSTAMP:20260419T200543
CREATED:20191218T210227Z
LAST-MODIFIED:20191218T210227Z
UID:10000587-1579111200-1579118400@hyp.org
SUMMARY:Arts/International & Social Committee Meetings
DESCRIPTION:The Arts Committee strives to enrich the lives of HYP members by illuminating the cultural diversity of Harrisburg. We offer access to the wide array of arts and cultural events that exist in the city while showcasing events involving and illustrating the arts. We also partner with educational institutions and local organizations to promote the Harrisburg Young Professionals mission. \nThe Arts Committee always welcomes new members who are interested in the arts and culture in Harrisburg. We’re looking for individuals who are excited about planning and implementing new and ongoing events to highlight and showcase what the city has to offer! Please contact us at arts@hyp.org at any time to learn more about the committee and to join us at our next meeting. \nThe HYP Social Committee plans and organizes HYP social events throughout the city of Harrisburg. HYP social events introduce HYP members to city businesses\, entertainment\, and recreational activities\, as well as provide a forum for networking and professional development. \nThe Social Committee hosts the monthly HYP First Friday Happy Hour and Second Wednesday Social events and plans the annual HYP Date Auction and Holiday Gala.\nThe Social Committee is always looking for new\, enthusiastic committee members to help plan HYP events. To join us for an upcoming Social Committee meeting\, please contact us at social@hyp.org.
URL:https://hyp.org/event/arts-international-social-committee-meetings/2020-01-15/
CATEGORIES:Committee Meetings
END:VEVENT
BEGIN:VEVENT
DTSTART;TZID=America/New_York:20200106T183000
DTEND;TZID=America/New_York:20200106T203000
DTSTAMP:20260419T200543
CREATED:20191218T210022Z
LAST-MODIFIED:20191218T210022Z
UID:10000586-1578335400-1578342600@hyp.org
SUMMARY:Membership & Economic Development Committee Meetings
DESCRIPTION:The HYP Economic Development Committee strives to encourage economic development initiatives in the City of Harrisburg. We initiate and support local\, collaborative projects and programs with community partners that are focused on growing the City’s assets to generate and build a brighter future. We channel the creativity\, knowledge\, and energy of HYP members to advance development here in Harrisburg. If you are an individual interested in joining our committee’s efforts or a community organization looking to collaborate\, please contact us at development@hyp.org. \nThe Membership Committee works to promote HYP to new and current members\, communicate the value of an HYP membership\, and get to know new members of the organization. The Membership Committee welcomes members at HYP events\, helps direct new members to a committee of interest\, hosts New Member Socials to introduce new members to the organization\, and manages the HYP Passport Program\, which features HYP Member benefits. \nThe committee is always looking for new\, enthusiastic members to join the committee and help its efforts. Please contact us at membership@hyp.org to find out more information and join us at our next meeting. \n 
URL:https://hyp.org/event/membership-economic-development-committee-meetings/
CATEGORIES:Committee Meetings
END:VEVENT
BEGIN:VEVENT
DTSTART;TZID=America/New_York:20190930T183000
DTEND;TZID=America/New_York:20190930T193000
DTSTAMP:20260419T200543
CREATED:20190827T170359Z
LAST-MODIFIED:20190827T170359Z
UID:10000564-1569868200-1569871800@hyp.org
SUMMARY:Marketing & PR Committee Meeting
DESCRIPTION:The Marketing and Public Relations Committee works throughout the year to promote and raise awareness of HYP’s commitment to the Harrisburg community\, as well as its programs and events. The committee collaborates with local and regional media in order to secure press coverage\, works hands-on with HYP social media platforms\, such as the official HYP Twitter handle @_HYP\, and contributes design and creative talents to HYP marketing efforts. \nMembers of the Marketing & Public Relations Committee come from varied and diverse backgrounds and each contribute something unique to the group. If you’re interested in becoming involved with the committee\, please join us at our monthly committee meeting! Contact us at marketing@hyp.org to find out more information.
URL:https://hyp.org/event/marketing-pr-committee-meeting-3/2019-09-30/
CATEGORIES:Committee Meetings
END:VEVENT
BEGIN:VEVENT
DTSTART;TZID=America/New_York:20190902T183000
DTEND;TZID=America/New_York:20190902T193000
DTSTAMP:20260419T200543
CREATED:20190827T170041Z
LAST-MODIFIED:20190827T170041Z
UID:10000563-1567449000-1567452600@hyp.org
SUMMARY:Membership and Economic Development Committee Meeting
DESCRIPTION:The HYP Economic Development Committee strives to encourage economic development initiatives in the City of Harrisburg. We initiate and support local\, collaborative projects and programs with community partners that are focused on growing the City’s assets to generate and build a brighter future. We channel the creativity\, knowledge\, and energy of HYP members to advance development here in Harrisburg. If you are an individual interested in joining our committee’s efforts or a community organization looking to collaborate\, please contact us at development@hyp.org. \nThe Membership Committee works to promote HYP to new and current members\, communicate the value of an HYP membership\, and get to know new members of the organization. The Membership Committee welcomes members at HYP events\, helps direct new members to a committee of interest\, hosts New Member Socials to introduce new members to the organization\, and manages the HYP Passport Program\, which features HYP Member benefits. \nThe committee is always looking for new\, enthusiastic members to join the committee and help its efforts. Please contact us at membership@hyp.org to find out more information and join us at our next meeting.
URL:https://hyp.org/event/membership-and-economic-development-committee-meeting/2019-09-02/
CATEGORIES:Committee Meetings
END:VEVENT
BEGIN:VEVENT
DTSTART;TZID=America/New_York:20190724T183000
DTEND;TZID=America/New_York:20190724T200000
DTSTAMP:20260419T200543
CREATED:20190723T213222Z
LAST-MODIFIED:20190723T213222Z
UID:10000555-1563993000-1563998400@hyp.org
SUMMARY:Outreach & Sports Committee Meeting
DESCRIPTION:Join us for a committee meeting and walk – we will meet in front of the nature center main entrance which is next to the large parking lot.\nWe will be walking around the lake\, about 2.5 miles.
URL:https://hyp.org/event/outreach-sports-committee-meeting/
CATEGORIES:Committee Meetings
END:VEVENT
BEGIN:VEVENT
DTSTART;TZID=America/New_York:20190626T183000
DTEND;TZID=America/New_York:20190626T193000
DTSTAMP:20260419T200543
CREATED:20190621T153600Z
LAST-MODIFIED:20190621T153600Z
UID:10000548-1561573800-1561577400@hyp.org
SUMMARY:Sports/Outreach Committee Meeting
DESCRIPTION:For Questions email sports@hyp.org or outreach@hyp.org.
URL:https://hyp.org/event/sports-outreach-committee-meeting/
CATEGORIES:Committee Meetings
END:VEVENT
BEGIN:VEVENT
DTSTART;TZID=America/New_York:20190515T181500
DTEND;TZID=America/New_York:20190515T193000
DTSTAMP:20260419T200543
CREATED:20190502T145726Z
LAST-MODIFIED:20190502T145726Z
UID:10000523-1557944100-1557948600@hyp.org
SUMMARY:Mini Golf Outing + Committee Meeting (Sports & Outreach)
DESCRIPTION:This month’s committee meeting will be held after a fun round of mini golf on City Island!  Come on out and share your ideas with us and find out how you can get involved.  It will be $7.50/person. If more than 12 people show up then it will be $6.50/person.\n \n*In the event of inclement weather we will hold our meeting at the Federal Taphouse.
URL:https://hyp.org/event/mini-golf-outing-committee-meeting/
CATEGORIES:Committee Meetings
END:VEVENT
BEGIN:VEVENT
DTSTART;TZID=America/New_York:20190506T183000
DTEND;TZID=America/New_York:20190506T193000
DTSTAMP:20260419T200543
CREATED:20190411T201211Z
LAST-MODIFIED:20190411T201211Z
UID:10000521-1557167400-1557171000@hyp.org
SUMMARY:Membership & Economic Development Meeting
DESCRIPTION:Join us for the Monthly Economic Development and Membership Committees Joint Monthly Meetings. \nFor Questions about Economic Development\, email development@hyp.org. \nFor Questions about Membership\, email membership@hyp.org.
URL:https://hyp.org/event/membership-economic-development-meeting-3/2019-05-06/
CATEGORIES:Committee Meetings
END:VEVENT
BEGIN:VEVENT
DTSTART;TZID=America/New_York:20190429T183000
DTEND;TZID=America/New_York:20190429T200000
DTSTAMP:20260419T200543
CREATED:20190405T153216Z
LAST-MODIFIED:20190405T153216Z
UID:10000520-1556562600-1556568000@hyp.org
SUMMARY:Marketing Committee Meeting
DESCRIPTION:Do you have an interest in marketing or public relations? We are looking for volunteers to help with HYP design work\, drafting social media posts\, writing press releases and much more! We invite you to attend our monthly Marketing and PR Committee meeting at 6:30 PM at St@rtup. \nPlease email us at pr@hyp.org if you have any questions. We hope to see you there!
URL:https://hyp.org/event/marketing-committee-meeting-2/2019-04-29/
CATEGORIES:Committee Meetings
END:VEVENT
BEGIN:VEVENT
DTSTART;TZID=America/New_York:20190417T181500
DTEND;TZID=America/New_York:20190417T200000
DTSTAMP:20260419T200543
CREATED:20190405T144242Z
LAST-MODIFIED:20190405T144242Z
UID:10000519-1555524900-1555531200@hyp.org
SUMMARY:City Island Walk- Sports & Fitness + Outreach Committee Meeting
DESCRIPTION:Let’s take a walk around City Island for this month’s committee meeting! Meet at the Walnut Street pedestrian walking bridge (along Front St.) Arrive at 6:15 as we will begin our walk at 6:30 sharp. \nThis meeting is for current and potential HYP members! We want to hear your ideas and discover your interests. We want you to get involved! \nIn the event of inclement weather\, we will move our meeting to the Federal Taphouse. \nNote- Street parking is free downtown after 5:00 PM.
URL:https://hyp.org/event/city-island-walk-sports-fitness-outreach-committee-meeting/
CATEGORIES:Committee Meetings
END:VEVENT
BEGIN:VEVENT
DTSTART;TZID=America/New_York:20190326T183000
DTEND;TZID=America/New_York:20190326T193000
DTSTAMP:20260419T200543
CREATED:20190123T164511Z
LAST-MODIFIED:20190123T164511Z
UID:10000495-1553625000-1553628600@hyp.org
SUMMARY:City Living & Beautification Meeting
DESCRIPTION:Join HYP’s City Living and City Beautification committees for their monthly meeting! Volunteer committee members help plan and coordinate the city beautification efforts for HYP\, including: \n\nAll major HYP cleanup events\nBeautification related workshops\nEducational opportunities\nand much more!
URL:https://hyp.org/event/city-living-beautification-meeting-2/2019-03-26/
CATEGORIES:Committee Meetings
END:VEVENT
BEGIN:VEVENT
DTSTART;TZID=America/New_York:20190325T183000
DTEND;TZID=America/New_York:20190325T193000
DTSTAMP:20260419T200543
CREATED:20190123T153023Z
LAST-MODIFIED:20190123T153023Z
UID:10000491-1553538600-1553542200@hyp.org
SUMMARY:Marketing & PR Meeting
DESCRIPTION:Do you have an interest in marketing or public relations? We are looking for volunteers to help with HYP design work\, drafting social media posts\, writing press releases and much more! We invite you to attend our monthly Marketing and PR Committee meeting at 6:30 PM at St@rtup. \nPlease email us at pr@hyp.org if you have any questions. We hope to see you there!
URL:https://hyp.org/event/marketing-pr-meeting/
CATEGORIES:Committee Meetings
END:VEVENT
BEGIN:VEVENT
DTSTART;TZID=America/New_York:20190320T180000
DTEND;TZID=America/New_York:20190320T200000
DTSTAMP:20260419T200543
CREATED:20190304T141748Z
LAST-MODIFIED:20190304T141748Z
UID:10000512-1553104800-1553112000@hyp.org
SUMMARY:Happy Hour Concert and Downtown Daily Bread Tour
DESCRIPTION:Join Pine Street Presbyterian Church and Downtown Daily Bread for an evening of music\, wine\, hors d’œuvres\, and a tour of the Downtown Daily Bread (DDB) facility located next to the church.  \nDDB is a mission project of Pine Street Presbyterian Church\, a 501(c)(3) corporation\, and has been operating in Harrisburg for 36 years. Services provided by DDB include (but not limited to) daily lunch\, showers\, laundry\, mail delivery\, counseling\, and overnight shelter during winter months to the homeless in Harrisburg.  \nDDB is always looking for volunteer assistance with their operations\, and if you are interested in supporting DDB and its mission\, come enjoy free music (no entrance fee\, donations will be accepted however) and take the opportunity to tour the DDB facility\, meet staff members and discover how you can begin making a difference in the homeless population of Harrisburg! The concert will begin at 6:00 PM and DDB tours will begin at approximately 7:00 PM.  \nThis event will also take place of the HYP Outreach Committee’s monthly meeting\, who is helping to coordinate volunteer efforts with DDB. Questions can be directed to Outreach@hyp.org.
URL:https://hyp.org/event/happy-hour-concert-and-downtown-daily-bread-tour/
CATEGORIES:Committee Meetings
ATTACH;FMTTYPE=:
END:VEVENT
BEGIN:VEVENT
DTSTART;TZID=America/New_York:20190320T180000
DTEND;TZID=America/New_York:20190320T190000
DTSTAMP:20260419T200543
CREATED:20190123T161104Z
LAST-MODIFIED:20190123T161104Z
UID:10000493-1553104800-1553108400@hyp.org
SUMMARY:Arts & Social Meeting
DESCRIPTION:Monthly meetings to discuss progress\, upcoming events\, new ideas\, and areas of concern\nWill send out follow-up minutes to all attendees and absent members of the committee
URL:https://hyp.org/event/arts-social-meeting-2/
CATEGORIES:Committee Meetings
END:VEVENT
BEGIN:VEVENT
DTSTART;TZID=America/New_York:20190304T183000
DTEND;TZID=America/New_York:20190304T193000
DTSTAMP:20260419T200543
CREATED:20190123T152322Z
LAST-MODIFIED:20190123T152322Z
UID:10000490-1551724200-1551727800@hyp.org
SUMMARY:Membership & Economic Development Meeting
DESCRIPTION:Join us for the Monthly Economic Development and Membership Committees Joint Monthly Meetings. \nFor Questions about Economic Development\, email development@hyp.org. \nFor Questions about Membership\, email membership@hyp.org.
URL:https://hyp.org/event/membership-economic-development-meeting-2/
CATEGORIES:Committee Meetings
END:VEVENT
BEGIN:VEVENT
DTSTART;TZID=America/New_York:20190226T183000
DTEND;TZID=America/New_York:20190226T193000
DTSTAMP:20260419T200543
CREATED:20190123T164416Z
LAST-MODIFIED:20190123T164416Z
UID:10000494-1551205800-1551209400@hyp.org
SUMMARY:City Living & Beautification Meeting
DESCRIPTION:Join HYP’s City Living and City Beautification committees for their monthly meeting! Volunteer committee members help plan and coordinate the city beautification efforts for HYP\, including: \n\nAll major HYP cleanup events\nBeautification related workshops\nEducational opportunities\nand much more!
URL:https://hyp.org/event/city-living-beautification-meeting/
CATEGORIES:Committee Meetings
END:VEVENT
BEGIN:VEVENT
DTSTART;TZID=America/New_York:20190226T183000
DTEND;TZID=America/New_York:20190226T193000
DTSTAMP:20260419T200543
CREATED:20181212T154405Z
LAST-MODIFIED:20181212T154405Z
UID:10000463-1551205800-1551209400@hyp.org
SUMMARY:City Beautification Committee Meeting
DESCRIPTION:Join HYP’s City Living and City Beautification committees for their monthly meeting! Volunteer committee members help plan and coordinate the city beautification efforts for HYP\, including: \n\nAll major HYP cleanup events\nBeautification related workshops\nEducational opportunities\nand much more!
URL:https://hyp.org/event/city-beautification-committee-meeting-4/
CATEGORIES:Committee Meetings
END:VEVENT
BEGIN:VEVENT
DTSTART;TZID=America/New_York:20190225T183000
DTEND;TZID=America/New_York:20190225T193000
DTSTAMP:20260419T200543
CREATED:20181217T144436Z
LAST-MODIFIED:20181217T144436Z
UID:10000474-1551119400-1551123000@hyp.org
SUMMARY:Marketing & PR Committee Monthly Meeting
DESCRIPTION:Do you have an interest in marketing or public relations? We are looking for volunteers to help with HYP design work\, drafting social media posts\, writing press releases and much more! We invite you to attend our monthly Marketing and PR Committee meeting on January 28th at 6:30 PM at St@rtup.  \nPlease email us at pr@hyp.org if you have any questions. We hope to see you there!
URL:https://hyp.org/event/marketing-pr-committee-monthly-meeting-2/
CATEGORIES:Committee Meetings
END:VEVENT
BEGIN:VEVENT
DTSTART;TZID=America/New_York:20190220T181500
DTEND;TZID=America/New_York:20190220T200000
DTSTAMP:20260419T200543
CREATED:20181214T155506Z
LAST-MODIFIED:20181214T155506Z
UID:10000471-1550686500-1550692800@hyp.org
SUMMARY:Sports and Outreach Committees Monthly Meeting
DESCRIPTION:This is a joint meeting of the HYP Sports Committee and HYP Outreach Committee. The committees will discuss HYP sports league business\, upcoming fitness events\, and initiatives of interest to the Outreach Committee.
URL:https://hyp.org/event/sports-and-outreach-committees-monthly-meeting-2/
CATEGORIES:Committee Meetings
END:VEVENT
BEGIN:VEVENT
DTSTART;TZID=America/New_York:20190220T180000
DTEND;TZID=America/New_York:20190220T190000
DTSTAMP:20260419T200543
CREATED:20190123T160958Z
LAST-MODIFIED:20190123T160958Z
UID:10000492-1550685600-1550689200@hyp.org
SUMMARY:Arts & Social Meeting
DESCRIPTION:Monthly meetings to discuss progress\, upcoming events\, new ideas\, and areas of concern\nWill send out follow-up minutes to all attendees and absent members of the committee
URL:https://hyp.org/event/arts-social-meeting/
CATEGORIES:Committee Meetings
END:VEVENT
BEGIN:VEVENT
DTSTART;TZID=America/New_York:20190204T183000
DTEND;TZID=America/New_York:20190204T193000
DTSTAMP:20260419T200543
CREATED:20190122T183435Z
LAST-MODIFIED:20190122T183435Z
UID:10000489-1549305000-1549308600@hyp.org
SUMMARY:Membership & Economic Development Meeting
DESCRIPTION:Join us for the Monthly Economic Development and Membership Committees Joint Monthly Meetings. \nFor Questions about Economic Development\, email development@hyp.org. \nFor Questions about Membership\, email membership@hyp.org.
URL:https://hyp.org/event/membership-economic-development-meeting/
CATEGORIES:Committee Meetings
END:VEVENT
END:VCALENDAR