BEGIN:VCALENDAR
VERSION:2.0
PRODID:-//Harrisburg Young Professionals - ECPv6.15.17.1//NONSGML v1.0//EN
CALSCALE:GREGORIAN
METHOD:PUBLISH
X-ORIGINAL-URL:https://hyp.org
X-WR-CALDESC:Events for Harrisburg Young Professionals
REFRESH-INTERVAL;VALUE=DURATION:PT1H
X-Robots-Tag:noindex
X-PUBLISHED-TTL:PT1H
BEGIN:VTIMEZONE
TZID:America/New_York
BEGIN:DAYLIGHT
TZOFFSETFROM:-0500
TZOFFSETTO:-0400
TZNAME:EDT
DTSTART:20250309T070000
END:DAYLIGHT
BEGIN:STANDARD
TZOFFSETFROM:-0400
TZOFFSETTO:-0500
TZNAME:EST
DTSTART:20251102T060000
END:STANDARD
BEGIN:DAYLIGHT
TZOFFSETFROM:-0500
TZOFFSETTO:-0400
TZNAME:EDT
DTSTART:20260308T070000
END:DAYLIGHT
BEGIN:STANDARD
TZOFFSETFROM:-0400
TZOFFSETTO:-0500
TZNAME:EST
DTSTART:20261101T060000
END:STANDARD
BEGIN:DAYLIGHT
TZOFFSETFROM:-0500
TZOFFSETTO:-0400
TZNAME:EDT
DTSTART:20270314T070000
END:DAYLIGHT
BEGIN:STANDARD
TZOFFSETFROM:-0400
TZOFFSETTO:-0500
TZNAME:EST
DTSTART:20271107T060000
END:STANDARD
END:VTIMEZONE
BEGIN:VEVENT
DTSTART;TZID=America/New_York:20260208T140000
DTEND;TZID=America/New_York:20260208T160000
DTSTAMP:20260422T210139
CREATED:20260121T005707Z
LAST-MODIFIED:20260121T005707Z
UID:10001579-1770559200-1770566400@hyp.org
SUMMARY:HYP Book Club
DESCRIPTION:Join us on Sunday\, February 8\, as we discuss Josephine Tey’s The Daughter of Time. Scotland Yard Inspector Alan Grant is intrigued by a portrait of Richard III. Could such a sensitive face actually belong to a heinous villain — a king who killed his brother’s children to secure his crown? Grant seeks to know what kind of man Richard was and who\, in fact\, killed the princes in the tower. \nIn 1990\, it was voted number one in The Top 100 Crime Novels of All Time list compiled by the British Crime Writers’ Association (CWA). \n\nClick here to register! \nIf you have any questions\, please reach out to Jenifer Wright at wright.jenn27@gmail.com
URL:https://hyp.org/event/hyp-book-club-2-2/
LOCATION:PA
CATEGORIES:Arts,Social
END:VEVENT
END:VCALENDAR