BEGIN:VCALENDAR
VERSION:2.0
PRODID:-//Harrisburg Young Professionals - ECPv6.15.17.1//NONSGML v1.0//EN
CALSCALE:GREGORIAN
METHOD:PUBLISH
X-WR-CALNAME:Harrisburg Young Professionals
X-ORIGINAL-URL:https://hyp.org
X-WR-CALDESC:Events for Harrisburg Young Professionals
REFRESH-INTERVAL;VALUE=DURATION:PT1H
X-Robots-Tag:noindex
X-PUBLISHED-TTL:PT1H
BEGIN:VTIMEZONE
TZID:America/New_York
BEGIN:DAYLIGHT
TZOFFSETFROM:-0500
TZOFFSETTO:-0400
TZNAME:EDT
DTSTART:20250309T070000
END:DAYLIGHT
BEGIN:STANDARD
TZOFFSETFROM:-0400
TZOFFSETTO:-0500
TZNAME:EST
DTSTART:20251102T060000
END:STANDARD
BEGIN:DAYLIGHT
TZOFFSETFROM:-0500
TZOFFSETTO:-0400
TZNAME:EDT
DTSTART:20260308T070000
END:DAYLIGHT
BEGIN:STANDARD
TZOFFSETFROM:-0400
TZOFFSETTO:-0500
TZNAME:EST
DTSTART:20261101T060000
END:STANDARD
BEGIN:DAYLIGHT
TZOFFSETFROM:-0500
TZOFFSETTO:-0400
TZNAME:EDT
DTSTART:20270314T070000
END:DAYLIGHT
BEGIN:STANDARD
TZOFFSETFROM:-0400
TZOFFSETTO:-0500
TZNAME:EST
DTSTART:20271107T060000
END:STANDARD
END:VTIMEZONE
BEGIN:VEVENT
DTSTART;TZID=America/New_York:20260131T193000
DTEND;TZID=America/New_York:20260131T220000
DTSTAMP:20260423T015800
CREATED:20260109T001010Z
LAST-MODIFIED:20260109T001010Z
UID:10001578-1769887800-1769896800@hyp.org
SUMMARY:HSO & HYP Happy Hour
DESCRIPTION:Join us for a member-exclusive POPS concert at the Harrisburg Symphony Orchestra (HSO). The theme is Bravo Broadway! HSO describes it as a delightful and exciting array of music from Hamilton\, Wicked\, Phantom\, My Fair Lady\, Company\, Spamalot\, Sound of Music\, Rent\, and more\, starring Nikki Renee Daniels\, Ben Davis\, and Jeff Kready\, direct from the Great White Way. There WILL be drama\, and there is no business like show business. \nHYP has an exclusive intermission section featuring food and drink for members who attend. Act now before it’s curtains. Only 10 seats are available. Secure your spot today! \nClick here to register
URL:https://hyp.org/event/hso-hyp-happy-hour/
LOCATION:PA
CATEGORIES:Arts,Social
END:VEVENT
END:VCALENDAR