BEGIN:VCALENDAR
VERSION:2.0
PRODID:-//Harrisburg Young Professionals - ECPv6.15.17.1//NONSGML v1.0//EN
CALSCALE:GREGORIAN
METHOD:PUBLISH
X-WR-CALNAME:Harrisburg Young Professionals
X-ORIGINAL-URL:https://hyp.org
X-WR-CALDESC:Events for Harrisburg Young Professionals
REFRESH-INTERVAL;VALUE=DURATION:PT1H
X-Robots-Tag:noindex
X-PUBLISHED-TTL:PT1H
BEGIN:VTIMEZONE
TZID:America/New_York
BEGIN:DAYLIGHT
TZOFFSETFROM:-0500
TZOFFSETTO:-0400
TZNAME:EDT
DTSTART:20250309T070000
END:DAYLIGHT
BEGIN:STANDARD
TZOFFSETFROM:-0400
TZOFFSETTO:-0500
TZNAME:EST
DTSTART:20251102T060000
END:STANDARD
BEGIN:DAYLIGHT
TZOFFSETFROM:-0500
TZOFFSETTO:-0400
TZNAME:EDT
DTSTART:20260308T070000
END:DAYLIGHT
BEGIN:STANDARD
TZOFFSETFROM:-0400
TZOFFSETTO:-0500
TZNAME:EST
DTSTART:20261101T060000
END:STANDARD
BEGIN:DAYLIGHT
TZOFFSETFROM:-0500
TZOFFSETTO:-0400
TZNAME:EDT
DTSTART:20270314T070000
END:DAYLIGHT
BEGIN:STANDARD
TZOFFSETFROM:-0400
TZOFFSETTO:-0500
TZNAME:EST
DTSTART:20271107T060000
END:STANDARD
END:VTIMEZONE
BEGIN:VEVENT
DTSTART;TZID=America/New_York:20260501T180000
DTEND;TZID=America/New_York:20260501T200000
DTSTAMP:20260422T141314
CREATED:20260409T155814Z
LAST-MODIFIED:20260421T184928Z
UID:10001693-1777658400-1777665600@hyp.org
SUMMARY:HYP Paint & Sip
DESCRIPTION:Join HYP for a creative First Friday Social hosted by our Live Committee! Our own Yuliya Goss will guide us step‑by‑step in painting a beautiful cherry blossom tree — no experience needed. We’ll have snacks\, drinks\, and all supplies ready for you. Just bring your creativity and enjoy a relaxing night with fellow members! \nRegistration is $25 for non‑members and $15 for HYP members. Members should use code HYP at checkout to receive the discount. Click here to register!
URL:https://hyp.org/event/hyp-paint-sip/
LOCATION:Susquehanna Arts Museum\, 1401 North 3rd Street\, Harrisburg\, PA\, 17102\, United States
CATEGORIES:Arts
END:VEVENT
BEGIN:VEVENT
DTSTART;TZID=America/New_York:20260517T140000
DTEND;TZID=America/New_York:20260517T160000
DTSTAMP:20260422T141314
CREATED:20260409T155140Z
LAST-MODIFIED:20260409T155140Z
UID:10001692-1779026400-1779033600@hyp.org
SUMMARY:HYP Book Club
DESCRIPTION:Join us for a discussion on Heaven and Earth Grocery Store by James McBride. In 1972\, when workers in Pottstown\, Pennsylvania\, were digging the foundations for a new housing development\, the last thing they expected to uncover was a human skeleton. Who the skeleton was and how it got buried there were just two of the long-held secrets that had been kept for decades by the residents of Chicken Hill\, the dilapidated neighborhood where immigrant Jews and African Americans lived side by side\, sharing ambitions and sorrows. \nChicken Hill was where Moshe and Chona Ludlow lived when Chona ran the Heaven & Earth Grocery Store\, which served the neighborhood’s quirky collection of blacks and European immigrants\, helped by her husband\, Moshe\, a Romanian-born theater owner who integrated the town’s first dance hall. When the state came looking for a deaf black child\, claiming that the boy needed to be institutionalized\, Chicken Hill’s residents—roused by Chona’s kindness and the courage of a local black worker named Nate Timblin—banded together to keep the boy safe. \nAs the novel unfolds\, it becomes clear how much the people of Chicken Hill have to struggle to survive at the margins of white Christian America and how damaging bigotry\, hypocrisy\, and deceit can be to a community. When the truth is revealed about the skeleton\, the boy\, and the part the town’s establishment played in both\, McBride shows that it is love and community—heaven and earth—that ultimately sustain us. \nThis is a free event but does require registration. Click here to register. \nIf you have any questions\, please reach out to Jenifer Wright at wright.jenn27@gmail.com
URL:https://hyp.org/event/hyp-book-club-6/
LOCATION:Pursuit Coworking\, 922 North 3rd st\, Harrisburg\, PA\, 17102\, United States
CATEGORIES:Arts
END:VEVENT
END:VCALENDAR